BEGIN:VCALENDAR
VERSION:2.0
PRODID:www.gruene-eppelheim.de
METHOD:PUBLISH
BEGIN:VTIMEZONE
TZID:Europe/Berlin
X-LIC-LOCATION:Europe/Berlin
BEGIN:DAYLIGHT
TZOFFSETFROM:+0100
TZOFFSETTO:+0200
TZNAME:CEST
DTSTART:19700329T020000
RRULE:FREQ=YEARLY;INTERVAL=1;BYDAY=-1SU;BYMONTH=3
END:DAYLIGHT
BEGIN:STANDARD
TZOFFSETFROM:+0200
TZOFFSETTO:+0100
TZNAME:CET
DTSTART:19701025T030000
RRULE:FREQ=YEARLY;INTERVAL=1;BYDAY=-1SU;BYMONTH=10
END:STANDARD
END:VTIMEZONE
BEGIN:VEVENT
UID:0dce31aee6d8d3bd31ab73e9bce58762@www.gruene-eppelheim.de
URL;VALUE=URI:https://www.gruene-eppelheim.de/termine/infostand-zur-unter
 stuetzung-von-alexander-hahn-4
LOCATION:
SUMMARY:Infostand zur Unterstützung von Alexander Hahn
DESCRIPTION;ALTREP="data:text/html,%0A%3Cp%3EB%C3%BCrgermeisterkandidat%2
 0Alexander%20Hahn%20freut%20sich%20auf%20das%20Gespr%C3%A4ch%20mit%20Ihne
 n.%20%3C%2Fp%3E%0A":Bürgermeisterkandidat Alexander Hahn freut sich auf 
 das Gespräch mit Ihnen.
CLASS:PUBLIC
DTSTART;TZID=Europe/Berlin:20250326T150000
DTEND;TZID=Europe/Berlin:20250326T180000
DTSTAMP:20260424T143532
END:VEVENT
END:VCALENDAR